BEGIN:VCALENDAR
VERSION:2.0
PRODID:-//Walnut Tree Studio - ECPv6.15.20//NONSGML v1.0//EN
CALSCALE:GREGORIAN
METHOD:PUBLISH
X-WR-CALNAME:Walnut Tree Studio
X-ORIGINAL-URL:https://walnuttreeart.com
X-WR-CALDESC:Events for Walnut Tree Studio
REFRESH-INTERVAL;VALUE=DURATION:PT1H
X-Robots-Tag:noindex
X-PUBLISHED-TTL:PT1H
BEGIN:VTIMEZONE
TZID:Europe/London
BEGIN:DAYLIGHT
TZOFFSETFROM:+0000
TZOFFSETTO:+0100
TZNAME:BST
DTSTART:20250330T010000
END:DAYLIGHT
BEGIN:STANDARD
TZOFFSETFROM:+0100
TZOFFSETTO:+0000
TZNAME:GMT
DTSTART:20251026T010000
END:STANDARD
BEGIN:DAYLIGHT
TZOFFSETFROM:+0000
TZOFFSETTO:+0100
TZNAME:BST
DTSTART:20260329T010000
END:DAYLIGHT
BEGIN:STANDARD
TZOFFSETFROM:+0100
TZOFFSETTO:+0000
TZNAME:GMT
DTSTART:20261025T010000
END:STANDARD
BEGIN:DAYLIGHT
TZOFFSETFROM:+0000
TZOFFSETTO:+0100
TZNAME:BST
DTSTART:20270328T010000
END:DAYLIGHT
BEGIN:STANDARD
TZOFFSETFROM:+0100
TZOFFSETTO:+0000
TZNAME:GMT
DTSTART:20271031T010000
END:STANDARD
END:VTIMEZONE
BEGIN:VEVENT
DTSTART;TZID=Europe/London:20260519T140000
DTEND;TZID=Europe/London:20260519T170000
DTSTAMP:20260423T141422
CREATED:20260422T113316Z
LAST-MODIFIED:20260422T114441Z
UID:2612-1779199200-1779210000@walnuttreeart.com
SUMMARY:Sleepy Hazel Dormouse
DESCRIPTION:Join wildlife artist Liz McLelland and let your sculpting skills unfurl as you learn to create a hibernating hazel dormouse. Liz will guide you step by step through the process as you learn wildlife observation skills and hand-building techniques that will breathe life into the clay. You’ll see your cosy creation emerge over the course of three hours as you refine and add texture to your design. Liz will take your finished dormouse back to her home kiln to bisque (first) fire and then glaze and 2nd fire for you ready to collect around 6 weeks later. \nLiz’s guided step-by-step workshops are designed to teach you core clay sculpting skills that can be applied to other hand building projects should the clay bug bite! This session will help you develop your wildlife observation skills and learn how to apply these to capture the likeness of an animal in 3 dimensions.
URL:https://walnuttreeart.com/event/sleepy-hazel-dormouse/
LOCATION:Newark Art Gallery and Studio\, 42a Kirk Gate\, Newark\, Nottinghamshire\, NG24 1AB\, United Kingdom
ORGANIZER;CN="Walnut Tree Art":MAILTO:walnuttreestudio@gmail.com
END:VEVENT
END:VCALENDAR